BEGIN:VCALENDAR
VERSION:2.0
PRODID:-//Hormoncoach Marianne Krug - ECPv6.15.20//NONSGML v1.0//EN
CALSCALE:GREGORIAN
METHOD:PUBLISH
X-WR-CALNAME:Hormoncoach Marianne Krug
X-ORIGINAL-URL:https://hormoncoach.com
X-WR-CALDESC:Veranstaltungen für Hormoncoach Marianne Krug
REFRESH-INTERVAL;VALUE=DURATION:PT1H
X-Robots-Tag:noindex
X-PUBLISHED-TTL:PT1H
BEGIN:VTIMEZONE
TZID:Europe/Paris
BEGIN:DAYLIGHT
TZOFFSETFROM:+0100
TZOFFSETTO:+0200
TZNAME:CEST
DTSTART:20250330T010000
END:DAYLIGHT
BEGIN:STANDARD
TZOFFSETFROM:+0200
TZOFFSETTO:+0100
TZNAME:CET
DTSTART:20251026T010000
END:STANDARD
BEGIN:DAYLIGHT
TZOFFSETFROM:+0100
TZOFFSETTO:+0200
TZNAME:CEST
DTSTART:20260329T010000
END:DAYLIGHT
BEGIN:STANDARD
TZOFFSETFROM:+0200
TZOFFSETTO:+0100
TZNAME:CET
DTSTART:20261025T010000
END:STANDARD
BEGIN:DAYLIGHT
TZOFFSETFROM:+0100
TZOFFSETTO:+0200
TZNAME:CEST
DTSTART:20270328T010000
END:DAYLIGHT
BEGIN:STANDARD
TZOFFSETFROM:+0200
TZOFFSETTO:+0100
TZNAME:CET
DTSTART:20271031T010000
END:STANDARD
END:VTIMEZONE
BEGIN:VEVENT
DTSTART;TZID=Europe/Paris:20261030T140000
DTEND;TZID=Europe/Paris:20261030T170000
DTSTAMP:20260421T200747
CREATED:20250916T181309Z
LAST-MODIFIED:20260410T153244Z
UID:5233-1793368800-1793379600@hormoncoach.com
SUMMARY:Expertennetzwerk/Refresher-Kurs: 30.10. - 31.10.2026\, Frankfurt
DESCRIPTION:Gedacht ist diese Veranstaltung als lebendiges Expertennetzwerk\, als interdisziplinäre Plattform mit viel Raum für den kollegialen Austausch aller Kollegen\, die in der bioidenten Hormontherapie tätig sind. \n4 Referent*Innen animieren mit Impulsreferaten zum Austausch \nReferent*Innen / Inhalte: \n\nDr. Heike Sommer-Stern: Hormonbedingte Symptome im HNO Bereich\nKirsten Julia Müller: Sport und Hormone\nDr. Reinhold Weidmann: Androstanolon und Prostata\nMarianne Krug: weibliche Androgensubstitution\n\nZeitinvestition: 1 ½ Tage \nFreitag: 14:00 – 18:00 Uhr und Samstag: 09:00 – 17:00 Uhr \nWir laden Sie herzlich ab 13.00 Uhr zu einem ersten gemeinsamen Austausch bei einer Tasse Kaffee ein. Mit dem Seminar starten wir um 14.00 Uhr. \nZertifizierung: \nFortbildungspunkte werden beantragt \nKosten: \n650\,- € inkl. 19 % MwSt. \nBeinhaltet: \nAusführliches Handout\, Zertifizierung\, Kaffeepausen\, Tagungsgetränke\, Samstags   Mittagessen\, Teilnahmebescheinigung \nPflichtangaben gem. Transparenzangebot:\nKosten für die Ausrichtung der Veranstaltung: Raummiete inkl. Technik: 2.100\,-  €\, Bewirtungskosten 114\,- € pro Person/Tag (wird vom Veranstalter übernommen)\nSponsoring: GanzImmun Diagnostics AG 1.500\,- €\, Cornelius Apothekenbetriebs OHG 500\,- €.\nWir sichern zu\, a) dass die Inhalte der Fortbildungsmaßnahme produkt- und/oder dienstleistungsneutral gestaltet sind\, b) eine Zusicherung\, dass potenzielle Interessenkonflikte des Veranstalters\, der wissenschaftlichen Leitung und der Referenten in einer Selbstauskunft gegenüber den Teilnehmern (z. B. erste Folie bei Vorträgen\, Handout\, Aushang\, Hinweis in Programm\, Link oder Download) offen gelegt werden. \n\nBuchen Sie jetzt Ihren Seminarplatz:\n \n\nZur Bearbeitung Ihrer Buchung ist eine Bestätigung Ihrer E-Mail Adresse nötig. Sie werden durch die Bestätigung in meinen Verteiler eingetragen. Sie stimmen zu\, dass ich Ihnen E-Mails mit Informationen zu meinen medizinischen Seminaren  zusende. Sie können diese Einwilligung jederzeit durch die Nutzung des Abmeldelinks\, welchen Sie am Ende jeder E-Mail finden widerrufen. Hier finden Sie meine Datenschutzbestimmungen.
URL:https://hormoncoach.com/seminar/expertennetzwerk-refresher-kurs-30-10-31-10-2026-frankfurt/
LOCATION:Best Western Welcome Hotel Frankfurt\, Leonardo-da-Vinci-Allee 2\, Frankfurt\, 60486
CATEGORIES:Seminar
ATTACH;FMTTYPE=image/jpeg:https://hormoncoach.com/wp-content/uploads/newton-cradle.jpg
ORGANIZER;CN="Marianne Krug":MAILTO:anmeldung@hormoncoach.com
END:VEVENT
END:VCALENDAR