BEGIN:VCALENDAR
VERSION:2.0
PRODID:-//Hormoncoach Marianne Krug - ECPv6.15.20//NONSGML v1.0//EN
CALSCALE:GREGORIAN
METHOD:PUBLISH
X-ORIGINAL-URL:https://hormoncoach.com
X-WR-CALDESC:Veranstaltungen für Hormoncoach Marianne Krug
REFRESH-INTERVAL;VALUE=DURATION:PT1H
X-Robots-Tag:noindex
X-PUBLISHED-TTL:PT1H
BEGIN:VTIMEZONE
TZID:Europe/Paris
BEGIN:DAYLIGHT
TZOFFSETFROM:+0100
TZOFFSETTO:+0200
TZNAME:CEST
DTSTART:20250330T010000
END:DAYLIGHT
BEGIN:STANDARD
TZOFFSETFROM:+0200
TZOFFSETTO:+0100
TZNAME:CET
DTSTART:20251026T010000
END:STANDARD
BEGIN:DAYLIGHT
TZOFFSETFROM:+0100
TZOFFSETTO:+0200
TZNAME:CEST
DTSTART:20260329T010000
END:DAYLIGHT
BEGIN:STANDARD
TZOFFSETFROM:+0200
TZOFFSETTO:+0100
TZNAME:CET
DTSTART:20261025T010000
END:STANDARD
BEGIN:DAYLIGHT
TZOFFSETFROM:+0100
TZOFFSETTO:+0200
TZNAME:CEST
DTSTART:20270328T010000
END:DAYLIGHT
BEGIN:STANDARD
TZOFFSETFROM:+0200
TZOFFSETTO:+0100
TZNAME:CET
DTSTART:20271031T010000
END:STANDARD
END:VTIMEZONE
BEGIN:VEVENT
DTSTART;TZID=Europe/Paris:20260919T090000
DTEND;TZID=Europe/Paris:20260919T180000
DTSTAMP:20260421T182206
CREATED:20250916T180751Z
LAST-MODIFIED:20260122T114045Z
UID:5230-1789808400-1789840800@hormoncoach.com
SUMMARY:Spezialseminar "Schilddrüse": 19.09.2026\, Neu-Isenburg bei Frankfurt
DESCRIPTION:Thema: Schilddrüse\n \nReferentin:\nMarianne Krug \nKosten:\n410\,-  €  inkl. 19 % MwSt. \nDarin enthalten: ausführliches Handoutmaterial\, Kaffeepausen ein Mittagessen \nAgenda: \n\nÜbersicht welche Schilddrüsenerkrankungen gibt es\nHäufigste Form Hypothyreose – Definition\nUrsachen Hypothyreose\nSymptomatik Hypothyreose\nAutoimmunthyreopathien in Symptomatik\, Diagnostik und Therapie\nTherapie der Hypothyreose\nFallbeispiel\n\nPflichtangaben gem. Transparenzangebot:\nKosten für die Ausrichtung der Veranstaltung: Bewirtungskosten 91\,- € pro Person/Tag (wird vom Veranstalter übernommen)\nSponsoring: GanzImmun Diagnostics AG 1.500\,- €\, Cornelius Apothekenbetriebs OHG 500\,- €.\nWir sichern zu\, a) dass die Inhalte der Fortbildungsmaßnahme produkt- und/oder dienstleistungsneutral gestaltet sind\, b) eine Zusicherung\, dass potenzielle Interessenkonflikte des Veranstalters\, der wissenschaftlichen Leitung und der Referenten in einer Selbstauskunft gegenüber den Teilnehmern (z. B. erste Folie bei Vorträgen\, Handout\, Aushang\, Hinweis in Programm\, Link oder Download) offen gelegt werden. \n\nBuchen Sie jetzt Ihren Seminarplatz: \n\nZur Bearbeitung Ihrer Buchung ist eine Bestätigung Ihrer E-Mail Adresse nötig. Sie werden durch die Bestätigung in meinen Verteiler eingetragen. Sie stimmen zu\, dass ich Ihnen E-Mails mit Informationen zu meinen medizinischen Seminaren  zusende. Sie können diese Einwilligung jederzeit durch die Nutzung des Abmeldelinks\, welchen Sie am Ende jeder E-Mail finden widerrufen. Hier finden Sie meine Datenschutzbestimmungen.
URL:https://hormoncoach.com/seminar/spezialseminar-schilddruese-19-09-2026-neu-isenburg-bei-frankfurt/
LOCATION:WESSINGER Hotel – Neu Isenburg bei Frankfurt\, Alicestraße 2\, Neu Isenburg bei Frankfurt\, 63263\, Deutschland
CATEGORIES:Seminar
ATTACH;FMTTYPE=image/jpeg:https://hormoncoach.com/wp-content/uploads/schmetterling-auf-gelben-blumen.jpg
ORGANIZER;CN="Marianne Krug":MAILTO:anmeldung@hormoncoach.com
END:VEVENT
END:VCALENDAR