BEGIN:VCALENDAR
VERSION:2.0
PRODID:-//Hormoncoach Marianne Krug - ECPv6.15.20//NONSGML v1.0//EN
CALSCALE:GREGORIAN
METHOD:PUBLISH
X-ORIGINAL-URL:https://hormoncoach.com
X-WR-CALDESC:Veranstaltungen für Hormoncoach Marianne Krug
REFRESH-INTERVAL;VALUE=DURATION:PT1H
X-Robots-Tag:noindex
X-PUBLISHED-TTL:PT1H
BEGIN:VTIMEZONE
TZID:Europe/Paris
BEGIN:DAYLIGHT
TZOFFSETFROM:+0100
TZOFFSETTO:+0200
TZNAME:CEST
DTSTART:20220327T010000
END:DAYLIGHT
BEGIN:STANDARD
TZOFFSETFROM:+0200
TZOFFSETTO:+0100
TZNAME:CET
DTSTART:20221030T010000
END:STANDARD
BEGIN:DAYLIGHT
TZOFFSETFROM:+0100
TZOFFSETTO:+0200
TZNAME:CEST
DTSTART:20230326T010000
END:DAYLIGHT
BEGIN:STANDARD
TZOFFSETFROM:+0200
TZOFFSETTO:+0100
TZNAME:CET
DTSTART:20231029T010000
END:STANDARD
BEGIN:DAYLIGHT
TZOFFSETFROM:+0100
TZOFFSETTO:+0200
TZNAME:CEST
DTSTART:20240331T010000
END:DAYLIGHT
BEGIN:STANDARD
TZOFFSETFROM:+0200
TZOFFSETTO:+0100
TZNAME:CET
DTSTART:20241027T010000
END:STANDARD
END:VTIMEZONE
BEGIN:VEVENT
DTSTART;TZID=Europe/Paris:20230915T140000
DTEND;TZID=Europe/Paris:20230916T170000
DTSTAMP:20260424T145435
CREATED:20220906T112004Z
LAST-MODIFIED:20230906T094556Z
UID:3547-1694786400-1694883600@hormoncoach.com
SUMMARY:Aufbau/Auswertekurs: 15. - 16.09.2023\, Neu Isenburg bei Frankfurt - AUSGEBUCHT
DESCRIPTION:Fit für den Praxisalltag \nDieses Seminar behandelt die Auswertung von Laborbefunden und Einleitung von erfolgreichen Therapien. Es ist für diejenigen gedacht\, die bereits erste Erfahrungen gemacht haben mit Patienten. Mitgebrachte Fälle werden zusammen bearbeitet. \nInhalte: \n\nSystematik der Speichelbefunde\n„ Fallen“ und Grenzen des Speicheltestes\nHormone und Krebs?\nFallkonferenzen aus dem Teilnehmerkreis\n\nZeitinvestition: 1 ½ Tage \nFreitag: 14:00 – 18:00 Uhr und Samstag: 09:00 – 17:00 Uhr \nZertifizierung \nbeantragt (16 ärztliche Fortbildungspunkte) \nKosten: \n550\,- € inkl. 19 % MwSt. \nBeinhaltet: \nAusführliches Handout\, Zertifizierung\, Kaffeepausen\, Tagungsgetränke\, Samstags   Mittagessen\, Teilnahmebescheinigung \nPflichtangaben gem. Transparenzangebot:\nKosten für die Ausrichtung der Veranstaltung: Raummiete: 400\,-  €\, Bewirtungskosten 50\,80 € pro Person/Tag (wird vom Veranstalter übernommen)\nSponsoring: GanzImmun Diagnostics AG 1.500\,- €\nWir sichern zu\, a) dass die Inhalte der Fortbildungsmaßnahme produkt- und/oder dienstleistungsneutral gestaltet sind\, b) eine Zusicherung\, dass potenzielle Interessenkonflikte des Veranstalters\, der wissenschaftlichen Leitung und der Referenten in einer Selbstauskunft gegenüber den Teilnehmern (z. B. erste Folie bei Vorträgen\, Handout\, Aushang\, Hinweis in Programm\, Link oder Download) offen gelegt werden.\n \n\nReservieren Sie sich jetzt Ihren Seminarplatz: Das Seminar ist ausgebucht.\n \n\nZur Bearbeitung Ihrer Anfrage ist eine Bestätigung Ihrer E-Mail Adresse nötig. Sie werden durch die Bestätigung in meinen Verteiler eingetragen. Sie stimmen zu\, dass ich Ihnen E-Mails mit Informationen zu meinen medizinischen Seminaren  zusende. Sie können diese Einwilligung jederzeit durch die Nutzung des Abmeldelinks\, welchen Sie am Ende jeder E-Mail finden widerrufen. Hier finden Sie meine Datenschutzbestimmungen.
URL:https://hormoncoach.com/seminar/aufbau-auswertekurs-15-16-09-2023-frankfurt/
LOCATION:WESSINGER Hotel – Neu Isenburg bei Frankfurt\, Alicestraße 2\, Neu Isenburg bei Frankfurt\, 63263\, Deutschland
CATEGORIES:Seminar
ATTACH;FMTTYPE=image/jpeg:https://hormoncoach.com/wp-content/uploads/glucose-metabolism-marianne-krug-aerztin-hormoncoach-seminare-frankfurt-hormon-therapie.jpg
ORGANIZER;CN="Marianne Krug":MAILTO:anmeldung@hormoncoach.com
END:VEVENT
END:VCALENDAR